BEGIN:VCALENDAR
VERSION:2.0
PRODID:-//ChamberMaster//Event Calendar 2.0//EN
METHOD:PUBLISH
X-PUBLISHED-TTL:P3D
REFRESH-INTERVAL:P3D
CALSCALE:GREGORIAN
BEGIN:VEVENT
DTSTART:20210916T210000Z
DTEND:20210916T223000Z
X-MICROSOFT-CDO-ALLDAYEVENT:FALSE
SUMMARY:Social Media Made Simple
DESCRIPTION:Are you looking for an introduction into how to use social media for your business? In this workshop you will learn:\n\n\n	The basics for using social media such as Facebook\, LinkedIn\, Twitter\, and Instagram to help your business thrive\n	Ways to decrease time spent on social media with automation\n	How to integrate different social media into your marketing strategy to bring in additional revenue\n	How you can use social media to target your audience with effective marketing messages
X-ALT-DESC;FMTTYPE=text/html:<p>Are you looking for an introduction into how to use social media for your business? In this workshop you will learn:</p>\n\n<ul>\n	<li>The basics for using social media such as Facebook\, LinkedIn\, Twitter\, and Instagram to help your business thrive</li>\n	<li>Ways to decrease time spent on social media with automation</li>\n	<li>How to integrate different social media into your marketing strategy to bring in additional revenue</li>\n	<li>How you can use social media to target your audience with effective marketing messages</li>\n</ul>\n
LOCATION:Zoom Webinar
UID:e.2083.13112
SEQUENCE:3
DTSTAMP:20260420T192934Z
URL:http://business.worcesterchamber.org/events/details/social-media-made-simple-09-16-2021-13112
END:VEVENT

END:VCALENDAR
