BEGIN:VCALENDAR
VERSION:2.0
PRODID:-//ChamberMaster//Event Calendar 2.0//EN
METHOD:PUBLISH
X-PUBLISHED-TTL:P3D
REFRESH-INTERVAL:P3D
CALSCALE:GREGORIAN
BEGIN:VEVENT
DTSTART:20110928T040000Z
DTEND:20110928T040000Z
X-MICROSOFT-CDO-ALLDAYEVENT:FALSE
SUMMARY:2011 WDO GOLF TOURNAMENT - DINNER FEE
DESCRIPTION:2011 WDO GOLF TOURNAMENT - DINNER FEE
X-ALT-DESC;FMTTYPE=text/html:2011 WDO GOLF TOURNAMENT - DINNER FEE
LOCATION:
UID:e.2083.2053
SEQUENCE:3
DTSTAMP:20260421T113346Z
URL:https://business.worcesterchamber.org/events/details/2011-wdo-golf-tournament-dinner-fee-09-28-2011-2053
END:VEVENT

END:VCALENDAR
