BEGIN:VCALENDAR
VERSION:2.0
PRODID:-//ChamberMaster//Event Calendar 2.0//EN
METHOD:PUBLISH
X-PUBLISHED-TTL:P3D
REFRESH-INTERVAL:P3D
CALSCALE:GREGORIAN
BEGIN:VEVENT
DTSTART:20111213T170000Z
DTEND:20111213T190000Z
X-MICROSOFT-CDO-ALLDAYEVENT:FALSE
SUMMARY:Annual Meeting - December 13\, 2011
DESCRIPTION:
X-ALT-DESC;FMTTYPE=text/html:
LOCATION:Mechanics Hall
UID:e.2083.766
SEQUENCE:3
DTSTAMP:20260421T064850Z
URL:https://business.worcesterchamber.org/events/details/annual-meeting-december-13-2011-12-13-2011-766
END:VEVENT

END:VCALENDAR
