BEGIN:VCALENDAR
VERSION:2.0
PRODID:-//ChamberMaster//Event Calendar 2.0//EN
METHOD:PUBLISH
X-PUBLISHED-TTL:P3D
REFRESH-INTERVAL:P3D
CALSCALE:GREGORIAN
BEGIN:VEVENT
DTSTART:20120412T040000Z
DTEND:20120412T040000Z
X-MICROSOFT-CDO-ALLDAYEVENT:FALSE
SUMMARY:Auburn Chamber 50th Annual Business Mtg\, - April 12\, 2012
DESCRIPTION:Auburn Chamber 50th Annual Business Mtg\, - April 12\, 2012
X-ALT-DESC;FMTTYPE=text/html:Auburn Chamber 50th Annual Business Mtg\, - April 12\, 2012
LOCATION:
UID:e.2083.2116
SEQUENCE:3
DTSTAMP:20260421T002529Z
URL:https://business.worcesterchamber.org/events/details/auburn-chamber-50th-annual-business-mtg-april-12-2012-04-12-2012-2116
END:VEVENT

END:VCALENDAR
