BEGIN:VCALENDAR
VERSION:2.0
PRODID:-//ChamberMaster//Event Calendar 2.0//EN
METHOD:PUBLISH
X-PUBLISHED-TTL:P3D
REFRESH-INTERVAL:P3D
CALSCALE:GREGORIAN
BEGIN:VEVENT
DTSTART:20100414T040000Z
DTEND:20100414T040000Z
X-MICROSOFT-CDO-ALLDAYEVENT:FALSE
SUMMARY:Auburn Chamber Annual Meeting April 2010
DESCRIPTION:Auburn Chamber Annual Meeting April 2010
X-ALT-DESC;FMTTYPE=text/html:Auburn Chamber Annual Meeting April 2010
LOCATION:
UID:e.2083.1854
SEQUENCE:3
DTSTAMP:20260422T130441Z
URL:https://business.worcesterchamber.org/events/details/auburn-chamber-annual-meeting-april-2010-04-14-2010-1854
END:VEVENT

END:VCALENDAR
