BEGIN:VCALENDAR
VERSION:2.0
PRODID:-//ChamberMaster//Event Calendar 2.0//EN
METHOD:PUBLISH
X-PUBLISHED-TTL:P3D
REFRESH-INTERVAL:P3D
CALSCALE:GREGORIAN
BEGIN:VEVENT
DTSTART:20110413T040000Z
DTEND:20110413T040000Z
X-MICROSOFT-CDO-ALLDAYEVENT:FALSE
SUMMARY:Auburn Chamber Annual Meeting April 2011
DESCRIPTION:Auburn Chamber Annual Meeting April 2011
X-ALT-DESC;FMTTYPE=text/html:Auburn Chamber Annual Meeting April 2011
LOCATION:
UID:e.2083.1994
SEQUENCE:3
DTSTAMP:20260421T191550Z
URL:https://business.worcesterchamber.org/events/details/auburn-chamber-annual-meeting-april-2011-04-13-2011-1994
END:VEVENT

END:VCALENDAR
