BEGIN:VCALENDAR
VERSION:2.0
PRODID:-//ChamberMaster//Event Calendar 2.0//EN
METHOD:PUBLISH
X-PUBLISHED-TTL:P3D
REFRESH-INTERVAL:P3D
CALSCALE:GREGORIAN
BEGIN:VEVENT
DTSTART:20120412T040000Z
DTEND:20120412T040000Z
X-MICROSOFT-CDO-ALLDAYEVENT:FALSE
SUMMARY:Auburn Chamber Annual Meeting Dinner 4/12/12
DESCRIPTION:Auburn Chamber Annual Meeting Dinner 4/12/12
X-ALT-DESC;FMTTYPE=text/html:Auburn Chamber Annual Meeting Dinner 4/12/12
LOCATION:
UID:e.2083.2107
SEQUENCE:3
DTSTAMP:20260421T002428Z
URL:https://business.worcesterchamber.org/events/details/auburn-chamber-annual-meeting-dinner-4-12-12-04-12-2012-2107
END:VEVENT

END:VCALENDAR
