BEGIN:VCALENDAR
VERSION:2.0
PRODID:-//ChamberMaster//Event Calendar 2.0//EN
METHOD:PUBLISH
X-PUBLISHED-TTL:P3D
REFRESH-INTERVAL:P3D
CALSCALE:GREGORIAN
BEGIN:VEVENT
DTSTART:20100210T050000Z
DTEND:20100210T050000Z
X-MICROSOFT-CDO-ALLDAYEVENT:FALSE
SUMMARY:Auburn Chamber Breakfast - February 2010
DESCRIPTION:Auburn Chamber Breakfast - February 2010
X-ALT-DESC;FMTTYPE=text/html:Auburn Chamber Breakfast - February 2010
LOCATION:Best Western/Yankee Drummer Inn
UID:e.2083.1811
SEQUENCE:3
DTSTAMP:20260422T173055Z
URL:https://business.worcesterchamber.org/events/details/auburn-chamber-breakfast-february-2010-02-10-2010-1811
END:VEVENT

END:VCALENDAR
