BEGIN:VCALENDAR
VERSION:2.0
PRODID:-//ChamberMaster//Event Calendar 2.0//EN
METHOD:PUBLISH
X-PUBLISHED-TTL:P3D
REFRESH-INTERVAL:P3D
CALSCALE:GREGORIAN
BEGIN:VEVENT
DTSTART:20110209T050000Z
DTEND:20110209T050000Z
X-MICROSOFT-CDO-ALLDAYEVENT:FALSE
SUMMARY:Auburn Chamber Breakfast - February 2011
DESCRIPTION:Auburn Chamber Breakfast - February 2011
X-ALT-DESC;FMTTYPE=text/html:Auburn Chamber Breakfast - February 2011
LOCATION:Best Western/Yankee Drummer Inn
UID:e.2083.1962
SEQUENCE:3
DTSTAMP:20260421T234111Z
URL:https://business.worcesterchamber.org/events/details/auburn-chamber-breakfast-february-2011-02-09-2011-1962
END:VEVENT

END:VCALENDAR
