BEGIN:VCALENDAR
VERSION:2.0
PRODID:-//ChamberMaster//Event Calendar 2.0//EN
METHOD:PUBLISH
X-PUBLISHED-TTL:P3D
REFRESH-INTERVAL:P3D
CALSCALE:GREGORIAN
BEGIN:VEVENT
DTSTART:20100512T040000Z
DTEND:20100512T040000Z
X-MICROSOFT-CDO-ALLDAYEVENT:FALSE
SUMMARY:Auburn Chamber Breakfast May 2010
DESCRIPTION:Auburn Chamber Breakfast May 2010
X-ALT-DESC;FMTTYPE=text/html:Auburn Chamber Breakfast May 2010
LOCATION:
UID:e.2083.1864
SEQUENCE:3
DTSTAMP:20260422T114351Z
URL:https://business.worcesterchamber.org/events/details/auburn-chamber-breakfast-may-2010-05-12-2010-1864
END:VEVENT

END:VCALENDAR
