BEGIN:VCALENDAR
VERSION:2.0
PRODID:-//ChamberMaster//Event Calendar 2.0//EN
METHOD:PUBLISH
X-PUBLISHED-TTL:P3D
REFRESH-INTERVAL:P3D
CALSCALE:GREGORIAN
BEGIN:VEVENT
DTSTART:20121010T040000Z
DTEND:20121010T040000Z
X-MICROSOFT-CDO-ALLDAYEVENT:FALSE
SUMMARY:Auburn Chamber Breakfast - Oct. 10\, 2012
DESCRIPTION:Auburn Chamber Breakfast - Oct. 10\, 2012
X-ALT-DESC;FMTTYPE=text/html:Auburn Chamber Breakfast - Oct. 10\, 2012
LOCATION:Best Western/Yankee Drummer Inn
UID:e.2083.2167
SEQUENCE:3
DTSTAMP:20260420T153229Z
URL:https://business.worcesterchamber.org/events/details/auburn-chamber-breakfast-oct-10-2012-10-10-2012-2167
END:VEVENT

END:VCALENDAR
