BEGIN:VCALENDAR
VERSION:2.0
PRODID:-//ChamberMaster//Event Calendar 2.0//EN
METHOD:PUBLISH
X-PUBLISHED-TTL:P3D
REFRESH-INTERVAL:P3D
CALSCALE:GREGORIAN
BEGIN:VEVENT
DTSTART:20111012T040000Z
DTEND:20111012T040000Z
X-MICROSOFT-CDO-ALLDAYEVENT:FALSE
SUMMARY:Auburn Chamber Breakfast - Oct. 12\, 2011
DESCRIPTION:Auburn Chamber Breakfast - Oct. 12\, 2011
X-ALT-DESC;FMTTYPE=text/html:Auburn Chamber Breakfast - Oct. 12\, 2011
LOCATION:Best Western/Yankee Drummer Inn
UID:e.2083.2054
SEQUENCE:3
DTSTAMP:20260421T113309Z
URL:https://business.worcesterchamber.org/events/details/auburn-chamber-breakfast-oct-12-2011-10-12-2011-2054
END:VEVENT

END:VCALENDAR
