BEGIN:VCALENDAR
VERSION:2.0
PRODID:-//ChamberMaster//Event Calendar 2.0//EN
METHOD:PUBLISH
X-PUBLISHED-TTL:P3D
REFRESH-INTERVAL:P3D
CALSCALE:GREGORIAN
BEGIN:VEVENT
DTSTART:20091014T040000Z
DTEND:20091014T040000Z
X-MICROSOFT-CDO-ALLDAYEVENT:FALSE
SUMMARY:Auburn Chamber Breakfast - Oct. 2009
DESCRIPTION:Auburn Chamber Breakfast - Oct. 2009
X-ALT-DESC;FMTTYPE=text/html:Auburn Chamber Breakfast - Oct. 2009
LOCATION:Best Western/Yankee Drummer Inn
UID:e.2083.1745
SEQUENCE:3
DTSTAMP:20260422T221550Z
URL:https://business.worcesterchamber.org/events/details/auburn-chamber-breakfast-oct-2009-10-14-2009-1745
END:VEVENT

END:VCALENDAR
