BEGIN:VCALENDAR
VERSION:2.0
PRODID:-//ChamberMaster//Event Calendar 2.0//EN
METHOD:PUBLISH
X-PUBLISHED-TTL:P3D
REFRESH-INTERVAL:P3D
CALSCALE:GREGORIAN
BEGIN:VEVENT
DTSTART:20090101T050000Z
DTEND:20091231T050000Z
X-MICROSOFT-CDO-ALLDAYEVENT:FALSE
SUMMARY:Auburn Chamber Breakfast Spotlight Sponsor 2009
DESCRIPTION:Auburn Chamber Breakfast Spotlight Sponsor 2009
X-ALT-DESC;FMTTYPE=text/html:Auburn Chamber Breakfast Spotlight Sponsor 2009
LOCATION:
UID:e.2083.1753
SEQUENCE:3
DTSTAMP:20260422T190614Z
URL:https://business.worcesterchamber.org/events/details/auburn-chamber-breakfast-spotlight-sponsor-2009-01-01-2009-1753
END:VEVENT

END:VCALENDAR
