BEGIN:VCALENDAR
VERSION:2.0
PRODID:-//ChamberMaster//Event Calendar 2.0//EN
METHOD:PUBLISH
X-PUBLISHED-TTL:P3D
REFRESH-INTERVAL:P3D
CALSCALE:GREGORIAN
BEGIN:VEVENT
DTSTART:20130101T050000Z
DTEND:20130101T050000Z
X-MICROSOFT-CDO-ALLDAYEVENT:FALSE
SUMMARY:Auburn Chamber Breakfast Spotlight Sponsor 2013
DESCRIPTION:Auburn Chamber Breakfast Spotlight Sponsor 2013
X-ALT-DESC;FMTTYPE=text/html:Auburn Chamber Breakfast Spotlight Sponsor 2013
LOCATION:
UID:e.2083.2314
SEQUENCE:3
DTSTAMP:20260420T124619Z
URL:https://business.worcesterchamber.org/events/details/auburn-chamber-breakfast-spotlight-sponsor-2013-01-01-2013-2314
END:VEVENT

END:VCALENDAR
