BEGIN:VCALENDAR
VERSION:2.0
PRODID:-//ChamberMaster//Event Calendar 2.0//EN
METHOD:PUBLISH
X-PUBLISHED-TTL:P3D
REFRESH-INTERVAL:P3D
CALSCALE:GREGORIAN
BEGIN:VEVENT
DTSTART:20121212T223000Z
DTEND:20121213T003000Z
X-MICROSOFT-CDO-ALLDAYEVENT:FALSE
SUMMARY:Auburn Chamber Bus. After Hours 12/12/12
DESCRIPTION:
X-ALT-DESC;FMTTYPE=text/html:
LOCATION:
UID:e.2083.858
SEQUENCE:3
DTSTAMP:20260420T124905Z
URL:https://business.worcesterchamber.org/events/details/auburn-chamber-bus-after-hours-12-12-12-12-12-2012-858
END:VEVENT

END:VCALENDAR
