BEGIN:VCALENDAR
VERSION:2.0
PRODID:-//ChamberMaster//Event Calendar 2.0//EN
METHOD:PUBLISH
X-PUBLISHED-TTL:P3D
REFRESH-INTERVAL:P3D
CALSCALE:GREGORIAN
BEGIN:VEVENT
DTSTART:20101208T050000Z
DTEND:20101208T050000Z
X-MICROSOFT-CDO-ALLDAYEVENT:FALSE
SUMMARY:Auburn Chamber Business After Hours 12/8/10
DESCRIPTION:Auburn Chamber Business After Hours 12/8/10
X-ALT-DESC;FMTTYPE=text/html:Auburn Chamber Business After Hours 12/8/10
LOCATION:
UID:e.2083.1951
SEQUENCE:3
DTSTAMP:20260422T012422Z
URL:https://business.worcesterchamber.org/events/details/auburn-chamber-business-after-hours-12-8-10-12-08-2010-1951
END:VEVENT

END:VCALENDAR
