BEGIN:VCALENDAR
VERSION:2.0
PRODID:-//ChamberMaster//Event Calendar 2.0//EN
METHOD:PUBLISH
X-PUBLISHED-TTL:P3D
REFRESH-INTERVAL:P3D
CALSCALE:GREGORIAN
BEGIN:VEVENT
DTSTART:20091209T050000Z
DTEND:20091209T050000Z
X-MICROSOFT-CDO-ALLDAYEVENT:FALSE
SUMMARY:Auburn Chamber Business After Hours 12/9/09
DESCRIPTION:Auburn Chamber Business After Hours 12/9/09
X-ALT-DESC;FMTTYPE=text/html:Auburn Chamber Business After Hours 12/9/09
LOCATION:
UID:e.2083.1797
SEQUENCE:3
DTSTAMP:20260422T191130Z
URL:https://business.worcesterchamber.org/events/details/auburn-chamber-business-after-hours-12-9-09-12-09-2009-1797
END:VEVENT

END:VCALENDAR
