BEGIN:VCALENDAR
VERSION:2.0
PRODID:-//ChamberMaster//Event Calendar 2.0//EN
METHOD:PUBLISH
X-PUBLISHED-TTL:P3D
REFRESH-INTERVAL:P3D
CALSCALE:GREGORIAN
BEGIN:VEVENT
DTSTART:20100928T040000Z
DTEND:20100928T040000Z
X-MICROSOFT-CDO-ALLDAYEVENT:FALSE
SUMMARY:Auburn Chamber Business After Hours 9/28/10
DESCRIPTION:Auburn Chamber Business After Hours 9/28/10
X-ALT-DESC;FMTTYPE=text/html:Auburn Chamber Business After Hours 9/28/10
LOCATION:
UID:e.2083.1915
SEQUENCE:3
DTSTAMP:20260422T072706Z
URL:https://business.worcesterchamber.org/events/details/auburn-chamber-business-after-hours-9-28-10-09-28-2010-1915
END:VEVENT

END:VCALENDAR
