BEGIN:VCALENDAR
VERSION:2.0
PRODID:-//ChamberMaster//Event Calendar 2.0//EN
METHOD:PUBLISH
X-PUBLISHED-TTL:P3D
REFRESH-INTERVAL:P3D
CALSCALE:GREGORIAN
BEGIN:VEVENT
DTSTART:20090914T150000Z
DTEND:20090914T230000Z
X-MICROSOFT-CDO-ALLDAYEVENT:FALSE
SUMMARY:Auburn Chamber Golf Tournament '09 - Sure Shot Memoriabelia
DESCRIPTION:
X-ALT-DESC;FMTTYPE=text/html:
LOCATION:
UID:e.2083.566
SEQUENCE:3
DTSTAMP:20260423T013254Z
URL:https://business.worcesterchamber.org/events/details/auburn-chamber-golf-tournament-09-sure-shot-memoriabelia-09-14-2009-566
END:VEVENT

END:VCALENDAR
