BEGIN:VCALENDAR
VERSION:2.0
PRODID:-//ChamberMaster//Event Calendar 2.0//EN
METHOD:PUBLISH
X-PUBLISHED-TTL:P3D
REFRESH-INTERVAL:P3D
CALSCALE:GREGORIAN
BEGIN:VEVENT
DTSTART:20120910T040000Z
DTEND:20120910T040000Z
X-MICROSOFT-CDO-ALLDAYEVENT:FALSE
SUMMARY:Auburn Chamber Golf Tournament 9/10/12
DESCRIPTION:Auburn Chamber Golf Tournament 9/10/12
X-ALT-DESC;FMTTYPE=text/html:Auburn Chamber Golf Tournament 9/10/12
LOCATION:
UID:e.2083.2142
SEQUENCE:3
DTSTAMP:20260420T182931Z
URL:https://business.worcesterchamber.org/events/details/auburn-chamber-golf-tournament-9-10-12-09-10-2012-2142
END:VEVENT

END:VCALENDAR
