BEGIN:VCALENDAR
VERSION:2.0
PRODID:-//ChamberMaster//Event Calendar 2.0//EN
METHOD:PUBLISH
X-PUBLISHED-TTL:P3D
REFRESH-INTERVAL:P3D
CALSCALE:GREGORIAN
BEGIN:VEVENT
DTSTART:20110912T040000Z
DTEND:20110912T040000Z
X-MICROSOFT-CDO-ALLDAYEVENT:FALSE
SUMMARY:Auburn Chamber Golf Tournament - Donation to Scholarships
DESCRIPTION:Auburn Chamber Golf Tournament - Donation to Scholarships
X-ALT-DESC;FMTTYPE=text/html:Auburn Chamber Golf Tournament - Donation to Scholarships
LOCATION:
UID:e.2083.2044
SEQUENCE:3
DTSTAMP:20260421T132351Z
URL:https://business.worcesterchamber.org/events/details/auburn-chamber-golf-tournament-donation-to-scholarships-09-12-2011-2044
END:VEVENT

END:VCALENDAR
