BEGIN:VCALENDAR
VERSION:2.0
PRODID:-//ChamberMaster//Event Calendar 2.0//EN
METHOD:PUBLISH
X-PUBLISHED-TTL:P3D
REFRESH-INTERVAL:P3D
CALSCALE:GREGORIAN
BEGIN:VEVENT
DTSTART:20100913T140000Z
DTEND:20100913T213000Z
X-MICROSOFT-CDO-ALLDAYEVENT:FALSE
SUMMARY:Auburn Chamber Golf Tournament - Donation to Scholarships
DESCRIPTION:
X-ALT-DESC;FMTTYPE=text/html:
LOCATION:
UID:e.2083.752
SEQUENCE:3
DTSTAMP:20260422T072821Z
URL:https://business.worcesterchamber.org/events/details/auburn-chamber-golf-tournament-donation-to-scholarships-09-13-2010-752
END:VEVENT

END:VCALENDAR
