BEGIN:VCALENDAR
VERSION:2.0
PRODID:-//ChamberMaster//Event Calendar 2.0//EN
METHOD:PUBLISH
X-PUBLISHED-TTL:P3D
REFRESH-INTERVAL:P3D
CALSCALE:GREGORIAN
BEGIN:VEVENT
DTSTART:20120326T040000Z
DTEND:20120326T040000Z
X-MICROSOFT-CDO-ALLDAYEVENT:FALSE
SUMMARY:Auburn Chamber Health & Business Expo Sponsorship
DESCRIPTION:Auburn Chamber Health  & Business Expo Sponsorship
X-ALT-DESC;FMTTYPE=text/html:Auburn Chamber Health  & Business Expo Sponsorship
LOCATION:
UID:e.2083.2226
SEQUENCE:3
DTSTAMP:20260421T032123Z
URL:https://business.worcesterchamber.org/events/details/auburn-chamber-health-business-expo-sponsorship-03-26-2012-2226
END:VEVENT

END:VCALENDAR
