BEGIN:VCALENDAR
VERSION:2.0
PRODID:-//ChamberMaster//Event Calendar 2.0//EN
METHOD:PUBLISH
X-PUBLISHED-TTL:P3D
REFRESH-INTERVAL:P3D
CALSCALE:GREGORIAN
BEGIN:VEVENT
DTSTART:20120323T040000Z
DTEND:20120323T040000Z
X-MICROSOFT-CDO-ALLDAYEVENT:FALSE
SUMMARY:Auburn Chamber Health Care Expo 3/23/12
DESCRIPTION:Auburn Chamber Health Care Expo 3/23/12
X-ALT-DESC;FMTTYPE=text/html:Auburn Chamber Health Care Expo 3/23/12
LOCATION:
UID:e.2083.2086
SEQUENCE:3
DTSTAMP:20260421T015719Z
URL:https://business.worcesterchamber.org/events/details/auburn-chamber-health-care-expo-3-23-12-03-23-2012-2086
END:VEVENT

END:VCALENDAR
