BEGIN:VCALENDAR
VERSION:2.0
PRODID:-//ChamberMaster//Event Calendar 2.0//EN
METHOD:PUBLISH
X-PUBLISHED-TTL:P3D
REFRESH-INTERVAL:P3D
CALSCALE:GREGORIAN
BEGIN:VEVENT
DTSTART:20100326T040000Z
DTEND:20100326T040000Z
X-MICROSOFT-CDO-ALLDAYEVENT:FALSE
SUMMARY:Auburn Chamber Health Care Expo Exhibitors 3/10
DESCRIPTION:Auburn Chamber Health Care Expo Exhibitors 3/10
X-ALT-DESC;FMTTYPE=text/html:Auburn Chamber Health Care Expo Exhibitors 3/10
LOCATION:
UID:e.2083.1818
SEQUENCE:3
DTSTAMP:20260422T144123Z
URL:https://business.worcesterchamber.org/events/details/auburn-chamber-health-care-expo-exhibitors-3-10-03-26-2010-1818
END:VEVENT

END:VCALENDAR
