BEGIN:VCALENDAR
VERSION:2.0
PRODID:-//ChamberMaster//Event Calendar 2.0//EN
METHOD:PUBLISH
X-PUBLISHED-TTL:P3D
REFRESH-INTERVAL:P3D
CALSCALE:GREGORIAN
BEGIN:VEVENT
DTSTART:20110318T040000Z
DTEND:20110318T040000Z
X-MICROSOFT-CDO-ALLDAYEVENT:FALSE
SUMMARY:Auburn Chamber Health Care Expo Exhibitors 3/18/11
DESCRIPTION:Auburn Chamber Health Care Expo Exhibitors 3/18/11
X-ALT-DESC;FMTTYPE=text/html:Auburn Chamber Health Care Expo Exhibitors 3/18/11
LOCATION:
UID:e.2083.1954
SEQUENCE:3
DTSTAMP:20260421T204520Z
URL:https://business.worcesterchamber.org/events/details/auburn-chamber-health-care-expo-exhibitors-3-18-11-03-18-2011-1954
END:VEVENT

END:VCALENDAR
