BEGIN:VCALENDAR
VERSION:2.0
PRODID:-//ChamberMaster//Event Calendar 2.0//EN
METHOD:PUBLISH
X-PUBLISHED-TTL:P3D
REFRESH-INTERVAL:P3D
CALSCALE:GREGORIAN
BEGIN:VEVENT
DTSTART:20120323T113000Z
DTEND:20120323T150000Z
X-MICROSOFT-CDO-ALLDAYEVENT:FALSE
SUMMARY:Auburn Chamber Health Care Expo Exhibitors 3/23/12
DESCRIPTION:
X-ALT-DESC;FMTTYPE=text/html:
LOCATION:
UID:e.2083.772
SEQUENCE:3
DTSTAMP:20260421T015733Z
URL:https://business.worcesterchamber.org/events/details/auburn-chamber-health-care-expo-exhibitors-3-23-12-03-23-2012-772
END:VEVENT

END:VCALENDAR
