BEGIN:VCALENDAR
VERSION:2.0
PRODID:-//ChamberMaster//Event Calendar 2.0//EN
METHOD:PUBLISH
X-PUBLISHED-TTL:P3D
REFRESH-INTERVAL:P3D
CALSCALE:GREGORIAN
BEGIN:VEVENT
DTSTART:20100701T040000Z
DTEND:20110201T050000Z
X-MICROSOFT-CDO-ALLDAYEVENT:FALSE
SUMMARY:Auburn Chamber Referral Group 2010-2011
DESCRIPTION:Auburn Chamber Referral Group 2010-2011
X-ALT-DESC;FMTTYPE=text/html:Auburn Chamber Referral Group 2010-2011
LOCATION:
UID:e.2083.1883
SEQUENCE:3
DTSTAMP:20260421T221049Z
URL:https://business.worcesterchamber.org/events/details/auburn-chamber-referral-group-2010-2011-07-01-2010-1883
END:VEVENT

END:VCALENDAR
