BEGIN:VCALENDAR
VERSION:2.0
PRODID:-//ChamberMaster//Event Calendar 2.0//EN
METHOD:PUBLISH
X-PUBLISHED-TTL:P3D
REFRESH-INTERVAL:P3D
CALSCALE:GREGORIAN
BEGIN:VEVENT
DTSTART:20100801T040000Z
DTEND:20110228T050000Z
X-MICROSOFT-CDO-ALLDAYEVENT:FALSE
SUMMARY:Auburn Chamber Referral Group Aug.2010 - Feb.2011
DESCRIPTION:Auburn Chamber Referral Group Aug.2010 - Feb.2011
X-ALT-DESC;FMTTYPE=text/html:Auburn Chamber Referral Group Aug.2010 - Feb.2011
LOCATION:
UID:e.2083.1897
SEQUENCE:3
DTSTAMP:20260421T221125Z
URL:https://business.worcesterchamber.org/events/details/auburn-chamber-referral-group-aug-2010-feb-2011-08-01-2010-1897
END:VEVENT

END:VCALENDAR
