BEGIN:VCALENDAR
VERSION:2.0
PRODID:-//ChamberMaster//Event Calendar 2.0//EN
METHOD:PUBLISH
X-PUBLISHED-TTL:P3D
REFRESH-INTERVAL:P3D
CALSCALE:GREGORIAN
BEGIN:VEVENT
DTSTART:20110801T113000Z
DTEND:20120229T140000Z
X-MICROSOFT-CDO-ALLDAYEVENT:FALSE
SUMMARY:Auburn Chamber Referral Group Aug. 2011- Feb. 2012
DESCRIPTION:
X-ALT-DESC;FMTTYPE=text/html:
LOCATION:
UID:e.2083.741
SEQUENCE:3
DTSTAMP:20260421T033240Z
URL:https://business.worcesterchamber.org/events/details/auburn-chamber-referral-group-aug-2011-feb-2012-08-01-2011-741
END:VEVENT

END:VCALENDAR
