BEGIN:VCALENDAR
VERSION:2.0
PRODID:-//ChamberMaster//Event Calendar 2.0//EN
METHOD:PUBLISH
X-PUBLISHED-TTL:P3D
REFRESH-INTERVAL:P3D
CALSCALE:GREGORIAN
BEGIN:VEVENT
DTSTART:20100901T040000Z
DTEND:20110202T050000Z
X-MICROSOFT-CDO-ALLDAYEVENT:FALSE
SUMMARY:Auburn Chamber Referral Group Sept '10-Feb'11
DESCRIPTION:Auburn Chamber Referral Group Sept '10-Feb'11
X-ALT-DESC;FMTTYPE=text/html:Auburn Chamber Referral Group Sept '10-Feb'11
LOCATION:
UID:e.2083.1906
SEQUENCE:3
DTSTAMP:20260421T235947Z
URL:https://business.worcesterchamber.org/events/details/auburn-chamber-referral-group-sept-10-feb-11-09-01-2010-1906
END:VEVENT

END:VCALENDAR
