BEGIN:VCALENDAR
VERSION:2.0
PRODID:-//ChamberMaster//Event Calendar 2.0//EN
METHOD:PUBLISH
X-PUBLISHED-TTL:P3D
REFRESH-INTERVAL:P3D
CALSCALE:GREGORIAN
BEGIN:VEVENT
DTSTART:20101101T040000Z
DTEND:20101101T040000Z
X-MICROSOFT-CDO-ALLDAYEVENT:FALSE
SUMMARY:Auburn Chamber Referral - Nov.'10 - Feb.'11
DESCRIPTION:Auburn Chamber Referral - Nov.'10 - Feb.'11
X-ALT-DESC;FMTTYPE=text/html:Auburn Chamber Referral - Nov.'10 - Feb.'11
LOCATION:
UID:e.2083.1950
SEQUENCE:3
DTSTAMP:20260422T030624Z
URL:https://business.worcesterchamber.org/events/details/auburn-chamber-referral-nov-10-feb-11-11-01-2010-1950
END:VEVENT

END:VCALENDAR
