BEGIN:VCALENDAR
VERSION:2.0
PRODID:-//ChamberMaster//Event Calendar 2.0//EN
METHOD:PUBLISH
X-PUBLISHED-TTL:P3D
REFRESH-INTERVAL:P3D
CALSCALE:GREGORIAN
BEGIN:VEVENT
DTSTART:20090901T040000Z
DTEND:20101231T050000Z
X-MICROSOFT-CDO-ALLDAYEVENT:FALSE
SUMMARY:Auburn Chamber Referral Program 2009-2010
DESCRIPTION:Auburn Chamber Referral Program 2009-2010
X-ALT-DESC;FMTTYPE=text/html:Auburn Chamber Referral Program 2009-2010
LOCATION:
UID:e.2083.1784
SEQUENCE:3
DTSTAMP:20260422T011908Z
URL:https://business.worcesterchamber.org/events/details/auburn-chamber-referral-program-2009-2010-09-01-2009-1784
END:VEVENT

END:VCALENDAR
