BEGIN:VCALENDAR
VERSION:2.0
PRODID:-//ChamberMaster//Event Calendar 2.0//EN
METHOD:PUBLISH
X-PUBLISHED-TTL:P3D
REFRESH-INTERVAL:P3D
CALSCALE:GREGORIAN
BEGIN:VEVENT
DTSTART:20110301T050000Z
DTEND:20120229T050000Z
X-MICROSOFT-CDO-ALLDAYEVENT:FALSE
SUMMARY:Auburn Chamber Referral Program 2011-2012
DESCRIPTION:Auburn Chamber Referral Program 2011-2012
X-ALT-DESC;FMTTYPE=text/html:Auburn Chamber Referral Program 2011-2012
LOCATION:
UID:e.2083.1969
SEQUENCE:3
DTSTAMP:20260421T032952Z
URL:https://business.worcesterchamber.org/events/details/auburn-chamber-referral-program-2011-2012-03-01-2011-1969
END:VEVENT

END:VCALENDAR
