BEGIN:VCALENDAR
VERSION:2.0
PRODID:-//ChamberMaster//Event Calendar 2.0//EN
METHOD:PUBLISH
X-PUBLISHED-TTL:P3D
REFRESH-INTERVAL:P3D
CALSCALE:GREGORIAN
BEGIN:VEVENT
DTSTART:20130301T050000Z
DTEND:20130301T050000Z
X-MICROSOFT-CDO-ALLDAYEVENT:FALSE
SUMMARY:Auburn Chamber Referral Program 2013-2014
DESCRIPTION:Auburn Chamber Referral Program 2013-2014
X-ALT-DESC;FMTTYPE=text/html:Auburn Chamber Referral Program 2013-2014
LOCATION:
UID:e.2083.2224
SEQUENCE:3
DTSTAMP:20260420T102002Z
URL:https://business.worcesterchamber.org/events/details/auburn-chamber-referral-program-2013-2014-03-01-2013-2224
END:VEVENT

END:VCALENDAR
