BEGIN:VCALENDAR
VERSION:2.0
PRODID:-//ChamberMaster//Event Calendar 2.0//EN
METHOD:PUBLISH
X-PUBLISHED-TTL:P3D
REFRESH-INTERVAL:P3D
CALSCALE:GREGORIAN
BEGIN:VEVENT
DTSTART:20120609T040000Z
DTEND:20120609T040000Z
X-MICROSOFT-CDO-ALLDAYEVENT:FALSE
SUMMARY:Auburn Chamber Time Capsule Burial Ceremony 6/9/12
DESCRIPTION:Auburn Chamber Time Capsule Burial Ceremony 6/9/12
X-ALT-DESC;FMTTYPE=text/html:Auburn Chamber Time Capsule Burial Ceremony 6/9/12
LOCATION:
UID:e.2083.2145
SEQUENCE:3
DTSTAMP:20260420T230459Z
URL:https://business.worcesterchamber.org/events/details/auburn-chamber-time-capsule-burial-ceremony-6-9-12-06-09-2012-2145
END:VEVENT

END:VCALENDAR
