BEGIN:VCALENDAR
VERSION:2.0
PRODID:-//ChamberMaster//Event Calendar 2.0//EN
METHOD:PUBLISH
X-PUBLISHED-TTL:P3D
REFRESH-INTERVAL:P3D
CALSCALE:GREGORIAN
BEGIN:VEVENT
DTSTART:20110912T040000Z
DTEND:20110912T040000Z
X-MICROSOFT-CDO-ALLDAYEVENT:FALSE
SUMMARY:Auburn Golf Putting Contest Sponsor 2011
DESCRIPTION:Auburn Golf  Putting Contest Sponsor 2011
X-ALT-DESC;FMTTYPE=text/html:Auburn Golf  Putting Contest Sponsor 2011
LOCATION:Heritage Country Club
UID:e.2083.2027
SEQUENCE:3
DTSTAMP:20260421T130342Z
URL:https://business.worcesterchamber.org/events/details/auburn-golf-putting-contest-sponsor-2011-09-12-2011-2027
END:VEVENT

END:VCALENDAR
