BEGIN:VCALENDAR
VERSION:2.0
PRODID:-//ChamberMaster//Event Calendar 2.0//EN
METHOD:PUBLISH
X-PUBLISHED-TTL:P3D
REFRESH-INTERVAL:P3D
CALSCALE:GREGORIAN
BEGIN:VEVENT
DTSTART:20120910T040000Z
DTEND:20120910T040000Z
X-MICROSOFT-CDO-ALLDAYEVENT:FALSE
SUMMARY:Auburn Golf Putting Contest Sponsor 2012
DESCRIPTION:Auburn Golf  Putting Contest Sponsor 2012
X-ALT-DESC;FMTTYPE=text/html:Auburn Golf  Putting Contest Sponsor 2012
LOCATION:Heritage Country Club
UID:e.2083.2141
SEQUENCE:3
DTSTAMP:20260420T165343Z
URL:https://business.worcesterchamber.org/events/details/auburn-golf-putting-contest-sponsor-2012-09-10-2012-2141
END:VEVENT

END:VCALENDAR
