BEGIN:VCALENDAR
VERSION:2.0
PRODID:-//ChamberMaster//Event Calendar 2.0//EN
METHOD:PUBLISH
X-PUBLISHED-TTL:P3D
REFRESH-INTERVAL:P3D
CALSCALE:GREGORIAN
BEGIN:VEVENT
DTSTART:20090914T040000Z
DTEND:20090914T040000Z
X-MICROSOFT-CDO-ALLDAYEVENT:FALSE
SUMMARY:Auburn Golf Tournament 2009
DESCRIPTION:Auburn Golf Tournament 2009
X-ALT-DESC;FMTTYPE=text/html:Auburn Golf Tournament 2009
LOCATION:Heritage Country Club
UID:e.2083.1751
SEQUENCE:3
DTSTAMP:20260423T000053Z
URL:https://business.worcesterchamber.org/events/details/auburn-golf-tournament-2009-09-14-2009-1751
END:VEVENT

END:VCALENDAR
