BEGIN:VCALENDAR
VERSION:2.0
PRODID:-//ChamberMaster//Event Calendar 2.0//EN
METHOD:PUBLISH
X-PUBLISHED-TTL:P3D
REFRESH-INTERVAL:P3D
CALSCALE:GREGORIAN
BEGIN:VEVENT
DTSTART:20100913T040000Z
DTEND:20100913T040000Z
X-MICROSOFT-CDO-ALLDAYEVENT:FALSE
SUMMARY:Auburn Golf Tournament Sponsorships 2010
DESCRIPTION:Auburn Golf Tournament Sponsorships 2010
X-ALT-DESC;FMTTYPE=text/html:Auburn Golf Tournament Sponsorships 2010
LOCATION:Heritage Country Club
UID:e.2083.1885
SEQUENCE:3
DTSTAMP:20260422T054853Z
URL:https://business.worcesterchamber.org/events/details/auburn-golf-tournament-sponsorships-2010-09-13-2010-1885
END:VEVENT

END:VCALENDAR
