BEGIN:VCALENDAR
VERSION:2.0
PRODID:-//ChamberMaster//Event Calendar 2.0//EN
METHOD:PUBLISH
X-PUBLISHED-TTL:P3D
REFRESH-INTERVAL:P3D
CALSCALE:GREGORIAN
BEGIN:VEVENT
DTSTART:20100326T040000Z
DTEND:20100326T040000Z
X-MICROSOFT-CDO-ALLDAYEVENT:FALSE
SUMMARY:Auburn Health Care Expo Help - 2010
DESCRIPTION:Auburn Health Care Expo Help - 2010
X-ALT-DESC;FMTTYPE=text/html:Auburn Health Care Expo Help - 2010
LOCATION:
UID:e.2083.1853
SEQUENCE:3
DTSTAMP:20260422T143614Z
URL:https://business.worcesterchamber.org/events/details/auburn-health-care-expo-help-2010-03-26-2010-1853
END:VEVENT

END:VCALENDAR
