BEGIN:VCALENDAR
VERSION:2.0
PRODID:-//ChamberMaster//Event Calendar 2.0//EN
METHOD:PUBLISH
X-PUBLISHED-TTL:P3D
REFRESH-INTERVAL:P3D
CALSCALE:GREGORIAN
BEGIN:VEVENT
DTSTART:20120323T113000Z
DTEND:20120323T150000Z
X-MICROSOFT-CDO-ALLDAYEVENT:FALSE
SUMMARY:Auburn Health Expo 2012 List of Additional Exhibitor Nametag
DESCRIPTION:
X-ALT-DESC;FMTTYPE=text/html:
LOCATION:
UID:e.2083.779
SEQUENCE:3
DTSTAMP:20260421T031435Z
URL:https://business.worcesterchamber.org/events/details/auburn-health-expo-2012-list-of-additional-exhibitor-nametag-03-23-2012-779
END:VEVENT

END:VCALENDAR
