BEGIN:VCALENDAR
VERSION:2.0
PRODID:-//ChamberMaster//Event Calendar 2.0//EN
METHOD:PUBLISH
X-PUBLISHED-TTL:P3D
REFRESH-INTERVAL:P3D
CALSCALE:GREGORIAN
BEGIN:VEVENT
DTSTART:20090625T123000Z
DTEND:20090625T140000Z
X-MICROSOFT-CDO-ALLDAYEVENT:FALSE
SUMMARY:Backup & Disaster Recovery Seminar - June 25\, 2009
DESCRIPTION:
X-ALT-DESC;FMTTYPE=text/html:
LOCATION:Worcester Regional Chamber of Commerce
UID:e.2083.526
SEQUENCE:3
DTSTAMP:20260423T063352Z
URL:https://business.worcesterchamber.org/events/details/backup-disaster-recovery-seminar-june-25-2009-06-25-2009-526
END:VEVENT

END:VCALENDAR
