BEGIN:VCALENDAR
VERSION:2.0
PRODID:-//ChamberMaster//Event Calendar 2.0//EN
METHOD:PUBLISH
X-PUBLISHED-TTL:P3D
REFRESH-INTERVAL:P3D
CALSCALE:GREGORIAN
BEGIN:VEVENT
DTSTART:20100101T130000Z
DTEND:20100101T220000Z
X-MICROSOFT-CDO-ALLDAYEVENT:FALSE
SUMMARY:Blast E-Mail \, 2010
DESCRIPTION:
X-ALT-DESC;FMTTYPE=text/html:
LOCATION:WRCC
UID:e.2083.586
SEQUENCE:3
DTSTAMP:20260422T172719Z
URL:https://business.worcesterchamber.org/events/details/blast-e-mail-2010-01-01-2010-586
END:VEVENT

END:VCALENDAR
