BEGIN:VCALENDAR
VERSION:2.0
PRODID:-//ChamberMaster//Event Calendar 2.0//EN
METHOD:PUBLISH
X-PUBLISHED-TTL:P3D
REFRESH-INTERVAL:P3D
CALSCALE:GREGORIAN
BEGIN:VEVENT
DTSTART:20090101T130000Z
DTEND:20091231T220000Z
X-MICROSOFT-CDO-ALLDAYEVENT:FALSE
SUMMARY:Board of Directors Lunch Sponsorship - 2009
DESCRIPTION:
X-ALT-DESC;FMTTYPE=text/html:
LOCATION:Worcester Regional Chamber of Commerce
UID:e.2083.495
SEQUENCE:3
DTSTAMP:20260422T202820Z
URL:https://business.worcesterchamber.org/events/details/board-of-directors-lunch-sponsorship-2009-01-01-2009-495
END:VEVENT

END:VCALENDAR
