BEGIN:VCALENDAR
VERSION:2.0
PRODID:-//ChamberMaster//Event Calendar 2.0//EN
METHOD:PUBLISH
X-PUBLISHED-TTL:P3D
REFRESH-INTERVAL:P3D
CALSCALE:GREGORIAN
BEGIN:VEVENT
DTSTART:20101028T230000Z
DTEND:20101029T010000Z
X-MICROSOFT-CDO-ALLDAYEVENT:FALSE
SUMMARY:Breakfast Club at N E Business Expo 2010
DESCRIPTION:
X-ALT-DESC;FMTTYPE=text/html:
LOCATION:Expo Floor - Worcester's Centrum Centre
UID:e.2083.657
SEQUENCE:3
DTSTAMP:20260422T054908Z
URL:https://business.worcesterchamber.org/events/details/breakfast-club-at-n-e-business-expo-2010-10-28-2010-657
END:VEVENT

END:VCALENDAR
