BEGIN:VCALENDAR
VERSION:2.0
PRODID:-//ChamberMaster//Event Calendar 2.0//EN
METHOD:PUBLISH
X-PUBLISHED-TTL:P3D
REFRESH-INTERVAL:P3D
CALSCALE:GREGORIAN
BEGIN:VEVENT
DTSTART:20111103T230000Z
DTEND:20111104T010000Z
X-MICROSOFT-CDO-ALLDAYEVENT:FALSE
SUMMARY:Breakfast Club at N E Business Expo 2011
DESCRIPTION:
X-ALT-DESC;FMTTYPE=text/html:
LOCATION:Expo Floor - Worcester's Centrum Centre
UID:e.2083.755
SEQUENCE:3
DTSTAMP:20260421T095853Z
URL:https://business.worcesterchamber.org/events/details/breakfast-club-at-n-e-business-expo-2011-11-03-2011-755
END:VEVENT

END:VCALENDAR
