BEGIN:VCALENDAR
VERSION:2.0
PRODID:-//ChamberMaster//Event Calendar 2.0//EN
METHOD:PUBLISH
X-PUBLISHED-TTL:P3D
REFRESH-INTERVAL:P3D
CALSCALE:GREGORIAN
BEGIN:VEVENT
DTSTART:20091204T000000Z
DTEND:20091204T020000Z
X-MICROSOFT-CDO-ALLDAYEVENT:FALSE
SUMMARY:Breakfast Club \, December 3\, 2009
DESCRIPTION:
X-ALT-DESC;FMTTYPE=text/html:
LOCATION:Coral Seafood
UID:e.2083.573
SEQUENCE:3
DTSTAMP:20260422T190614Z
URL:https://business.worcesterchamber.org/events/details/breakfast-club-december-3-2009-12-03-2009-573
END:VEVENT

END:VCALENDAR
