BEGIN:VCALENDAR
VERSION:2.0
PRODID:-//ChamberMaster//Event Calendar 2.0//EN
METHOD:PUBLISH
X-PUBLISHED-TTL:P3D
REFRESH-INTERVAL:P3D
CALSCALE:GREGORIAN
BEGIN:VEVENT
DTSTART:20101210T000000Z
DTEND:20101210T020000Z
X-MICROSOFT-CDO-ALLDAYEVENT:FALSE
SUMMARY:Breakfast Club\, December 9\, 2010
DESCRIPTION:
X-ALT-DESC;FMTTYPE=text/html:
LOCATION:DCU Center
UID:e.2083.677
SEQUENCE:3
DTSTAMP:20260422T012135Z
URL:https://business.worcesterchamber.org/events/details/breakfast-club-december-9-2010-12-09-2010-677
END:VEVENT

END:VCALENDAR
